Package: SigCheck Version: 2.40.0 Command: /home/biocbuild/R/R/bin/R CMD INSTALL SigCheck StartedAt: 2025-10-13 20:44:04 -0000 (Mon, 13 Oct 2025) EndedAt: 2025-10-13 20:44:48 -0000 (Mon, 13 Oct 2025) EllapsedTime: 43.5 seconds RetCode: 0 Status: OK