Package: SigCheck Version: 2.40.0 Command: /home/biocbuild/R/R/bin/R CMD build --keep-empty-dirs --no-resave-data SigCheck StartedAt: 2025-10-14 04:42:58 -0000 (Tue, 14 Oct 2025) EndedAt: 2025-10-14 04:44:23 -0000 (Tue, 14 Oct 2025) EllapsedTime: 85.1 seconds RetCode: 0 Status: OK PackageFile: SigCheck_2.40.0.tar.gz PackageFileSize: 361.2 KiB