Package: SiPSiC Version: 1.8.0 Command: /home/biocbuild/R/R/bin/R CMD INSTALL SiPSiC StartedAt: 2025-10-13 20:34:02 -0000 (Mon, 13 Oct 2025) EndedAt: 2025-10-13 20:34:35 -0000 (Mon, 13 Oct 2025) EllapsedTime: 33.1 seconds RetCode: 0 Status: OK