Package: SharedObject Version: 1.22.0 Command: /home/biocbuild/bbs-3.21-bioc/R/bin/R CMD check --install=check:SharedObject.install-out.txt --library=/home/biocbuild/bbs-3.21-bioc/R/site-library --timings SharedObject_1.22.0.tar.gz StartedAt: 2025-10-16 03:35:47 -0400 (Thu, 16 Oct 2025) EndedAt: 2025-10-16 03:37:09 -0400 (Thu, 16 Oct 2025) EllapsedTime: 82.1 seconds RetCode: 0 Status: WARNINGS CheckDir: SharedObject.Rcheck Warnings: 2