Package: SharedObject Version: 1.22.0 Command: /Library/Frameworks/R.framework/Resources/bin/R CMD check --install=check:SharedObject.install-out.txt --library=/Library/Frameworks/R.framework/Resources/library --no-vignettes --timings SharedObject_1.22.0.tar.gz StartedAt: 2025-10-14 10:22:46 -0400 (Tue, 14 Oct 2025) EndedAt: 2025-10-14 10:25:15 -0400 (Tue, 14 Oct 2025) EllapsedTime: 149.2 seconds RetCode: 0 Status: WARNINGS CheckDir: SharedObject.Rcheck Warnings: 2