Package: SharedObject Version: 1.22.0 Command: /home/biocbuild/R/R/bin/R CMD INSTALL SharedObject StartedAt: 2025-10-13 20:23:18 -0000 (Mon, 13 Oct 2025) EndedAt: 2025-10-13 20:24:00 -0000 (Mon, 13 Oct 2025) EllapsedTime: 41.4 seconds RetCode: 0 Status: OK