Package: SharedObject Version: 1.22.0 Command: /home/biocbuild/R/R/bin/R CMD check --install=check:SharedObject.install-out.txt --library=/home/biocbuild/R/R/site-library --no-vignettes --timings SharedObject_1.22.0.tar.gz StartedAt: 2025-10-14 14:14:12 -0000 (Tue, 14 Oct 2025) EndedAt: 2025-10-14 14:16:08 -0000 (Tue, 14 Oct 2025) EllapsedTime: 116.2 seconds RetCode: 0 Status: WARNINGS CheckDir: SharedObject.Rcheck Warnings: 2