Package: SharedObject Version: 1.22.0 Command: /Library/Frameworks/R.framework/Resources/bin/R CMD INSTALL SharedObject StartedAt: 2025-10-13 15:35:47 -0400 (Mon, 13 Oct 2025) EndedAt: 2025-10-13 15:36:15 -0400 (Mon, 13 Oct 2025) EllapsedTime: 28.8 seconds RetCode: 0 Status: OK