Package: SharedObject Version: 1.22.0 Command: /Library/Frameworks/R.framework/Resources/bin/R CMD build --keep-empty-dirs --no-resave-data SharedObject StartedAt: 2025-10-14 09:24:10 -0400 (Tue, 14 Oct 2025) EndedAt: 2025-10-14 09:24:55 -0400 (Tue, 14 Oct 2025) EllapsedTime: 45.2 seconds RetCode: 0 Status: OK PackageFile: SharedObject_1.22.0.tar.gz PackageFileSize: 1.885 MiB