Package: SeqVarTools Version: 1.46.0 Command: /home/biocbuild/bbs-3.21-bioc/R/bin/R CMD INSTALL SeqVarTools StartedAt: 2025-10-15 15:22:43 -0400 (Wed, 15 Oct 2025) EndedAt: 2025-10-15 15:23:03 -0400 (Wed, 15 Oct 2025) EllapsedTime: 20.1 seconds RetCode: 0 Status: OK