Package: SeqVarTools Version: 1.46.0 Command: /home/biocbuild/R/R/bin/R CMD INSTALL SeqVarTools StartedAt: 2025-10-13 20:36:37 -0000 (Mon, 13 Oct 2025) EndedAt: 2025-10-13 20:37:06 -0000 (Mon, 13 Oct 2025) EllapsedTime: 29.8 seconds RetCode: 0 Status: OK