Package: SeqVarTools Version: 1.46.0 Command: /Library/Frameworks/R.framework/Resources/bin/R CMD INSTALL SeqVarTools StartedAt: 2025-10-13 16:30:41 -0400 (Mon, 13 Oct 2025) EndedAt: 2025-10-13 16:31:04 -0400 (Mon, 13 Oct 2025) EllapsedTime: 23.9 seconds RetCode: 0 Status: OK