Package: SeqSQC Version: 1.30.0 Command: /home/biocbuild/R/R/bin/R CMD INSTALL SeqSQC StartedAt: 2025-10-13 20:40:33 -0000 (Mon, 13 Oct 2025) EndedAt: 2025-10-13 20:41:02 -0000 (Mon, 13 Oct 2025) EllapsedTime: 29.7 seconds RetCode: 0 Status: OK