Package: SeqSQC Version: 1.30.0 Command: /home/biocbuild/R/R/bin/R CMD build --keep-empty-dirs --no-resave-data SeqSQC StartedAt: 2025-10-14 04:40:15 -0000 (Tue, 14 Oct 2025) EndedAt: 2025-10-14 04:41:31 -0000 (Tue, 14 Oct 2025) EllapsedTime: 76.1 seconds RetCode: 1 Status: ERROR PackageFile: None PackageFileSize: NA