Package: SeqGate Version: 1.18.0 Command: /home/biocbuild/R/R/bin/R CMD INSTALL SeqGate StartedAt: 2025-10-13 20:30:17 -0000 (Mon, 13 Oct 2025) EndedAt: 2025-10-13 20:30:46 -0000 (Mon, 13 Oct 2025) EllapsedTime: 28.9 seconds RetCode: 0 Status: OK