Package: SeqGate Version: 1.18.0 Command: /home/biocbuild/R/R/bin/R CMD build --keep-empty-dirs --no-resave-data SeqGate StartedAt: 2025-10-14 04:39:15 -0000 (Tue, 14 Oct 2025) EndedAt: 2025-10-14 04:40:26 -0000 (Tue, 14 Oct 2025) EllapsedTime: 71.1 seconds RetCode: 0 Status: OK PackageFile: SeqGate_1.18.0.tar.gz PackageFileSize: 277.8 KiB