Package: SeqGSEA Version: 1.48.0 Command: /Library/Frameworks/R.framework/Resources/bin/R CMD INSTALL SeqGSEA StartedAt: 2025-04-21 15:13:10 -0400 (Mon, 21 Apr 2025) EndedAt: 2025-04-21 15:13:24 -0400 (Mon, 21 Apr 2025) EllapsedTime: 13.7 seconds RetCode: 0 Status: OK