Package: SeqArray Version: 1.48.3 Command: /home/biocbuild/R/R/bin/R CMD INSTALL SeqArray StartedAt: 2025-10-13 20:29:16 -0000 (Mon, 13 Oct 2025) EndedAt: 2025-10-13 20:30:17 -0000 (Mon, 13 Oct 2025) EllapsedTime: 61.0 seconds RetCode: 0 Status: OK