Package: SeqArray Version: 1.48.3 Command: /home/biocbuild/R/R/bin/R CMD build --keep-empty-dirs --no-resave-data SeqArray StartedAt: 2025-10-14 04:38:39 -0000 (Tue, 14 Oct 2025) EndedAt: 2025-10-14 05:18:39 -0000 (Tue, 14 Oct 2025) EllapsedTime: 2400.4 seconds RetCode: None Status: TIMEOUT PackageFile: None PackageFileSize: NA