Package: SemDist Version: 1.42.0 Command: /home/biocbuild/R/R/bin/R CMD build --keep-empty-dirs --no-resave-data SemDist StartedAt: 2025-10-14 04:37:52 -0000 (Tue, 14 Oct 2025) EndedAt: 2025-10-14 04:38:39 -0000 (Tue, 14 Oct 2025) EllapsedTime: 47.0 seconds RetCode: 0 Status: OK PackageFile: SemDist_1.42.0.tar.gz PackageFileSize: 1.943 MiB