Package: SemDist Version: 1.42.0 Command: /Library/Frameworks/R.framework/Resources/bin/R CMD build --keep-empty-dirs --no-resave-data SemDist StartedAt: 2025-10-14 09:16:13 -0400 (Tue, 14 Oct 2025) EndedAt: 2025-10-14 09:17:03 -0400 (Tue, 14 Oct 2025) EllapsedTime: 50.6 seconds RetCode: 0 Status: OK PackageFile: SemDist_1.42.0.tar.gz PackageFileSize: 1.953 MiB