Package: SemDist Version: 1.42.0 Command: rm -rf SemDist.buildbin-libdir && mkdir SemDist.buildbin-libdir && /Users/biocbuild/BBS/utils/build-universal.sh SemDist_1.42.0.tar.gz /Library/Frameworks/R.framework/Resources/bin/R SemDist.buildbin-libdir StartedAt: 2025-10-15 20:28:59 -0400 (Wed, 15 Oct 2025) EndedAt: 2025-10-15 20:29:17 -0400 (Wed, 15 Oct 2025) EllapsedTime: 18.1 seconds RetCode: 0 Status: OK PackageFile: SemDist_1.42.0.tgz PackageFileSize: 1.991 MiB