Package: ScreenR Version: 1.10.0 Command: /home/biocbuild/bbs-3.21-bioc/R/bin/R CMD INSTALL ScreenR StartedAt: 2025-10-15 15:09:26 -0400 (Wed, 15 Oct 2025) EndedAt: 2025-10-15 15:09:42 -0400 (Wed, 15 Oct 2025) EllapsedTime: 16.5 seconds RetCode: 0 Status: OK