Package: ScreenR Version: 1.10.0 Command: rm -rf ScreenR.buildbin-libdir && mkdir ScreenR.buildbin-libdir && /Users/biocbuild/BBS/utils/build-universal.sh ScreenR_1.10.0.tar.gz /Library/Frameworks/R.framework/Resources/bin/R ScreenR.buildbin-libdir StartedAt: 2025-10-14 14:44:33 -0400 (Tue, 14 Oct 2025) EndedAt: 2025-10-14 14:44:56 -0400 (Tue, 14 Oct 2025) EllapsedTime: 22.9 seconds RetCode: 0 Status: OK PackageFile: ScreenR_1.10.0.tgz PackageFileSize: 2.094 MiB