Package: ScreenR Version: 1.10.0 Command: rm -rf ScreenR.buildbin-libdir && mkdir ScreenR.buildbin-libdir && /Users/biocbuild/BBS/utils/build-universal.sh ScreenR_1.10.0.tar.gz /Library/Frameworks/R.framework/Resources/bin/R ScreenR.buildbin-libdir StartedAt: 2025-10-15 20:25:30 -0400 (Wed, 15 Oct 2025) EndedAt: 2025-10-15 20:25:41 -0400 (Wed, 15 Oct 2025) EllapsedTime: 11.0 seconds RetCode: 0 Status: OK PackageFile: ScreenR_1.10.0.tgz PackageFileSize: 2.098 MiB