Package: Sconify Version: 1.28.1 Command: /home/biocbuild/R/R/bin/R CMD INSTALL Sconify StartedAt: 2025-10-13 20:25:51 -0000 (Mon, 13 Oct 2025) EndedAt: 2025-10-13 20:26:05 -0000 (Mon, 13 Oct 2025) EllapsedTime: 13.3 seconds RetCode: 0 Status: OK