Package: Sconify Version: 1.28.1 Command: /home/biocbuild/R/R/bin/R CMD build --keep-empty-dirs --no-resave-data Sconify StartedAt: 2025-10-14 04:29:41 -0000 (Tue, 14 Oct 2025) EndedAt: 2025-10-14 04:30:29 -0000 (Tue, 14 Oct 2025) EllapsedTime: 48.0 seconds RetCode: 0 Status: OK PackageFile: Sconify_1.28.1.tar.gz PackageFileSize: 4.292 MiB