Package: ScaledMatrix Version: 1.16.0 Command: /Library/Frameworks/R.framework/Resources/bin/R CMD INSTALL ScaledMatrix StartedAt: 2025-10-13 18:08:38 -0400 (Mon, 13 Oct 2025) EndedAt: 2025-10-13 18:09:00 -0400 (Mon, 13 Oct 2025) EllapsedTime: 21.9 seconds RetCode: 0 Status: OK