Package: ScaledMatrix Version: 1.16.0 Command: /Library/Frameworks/R.framework/Resources/bin/R CMD build --keep-empty-dirs --no-resave-data ScaledMatrix StartedAt: 2025-10-14 08:27:48 -0400 (Tue, 14 Oct 2025) EndedAt: 2025-10-14 08:31:00 -0400 (Tue, 14 Oct 2025) EllapsedTime: 192.2 seconds RetCode: 0 Status: OK PackageFile: ScaledMatrix_1.16.0.tar.gz PackageFileSize: 306.2 KiB