Package: ScaledMatrix Version: 1.16.0 Command: rm -rf ScaledMatrix.buildbin-libdir && mkdir ScaledMatrix.buildbin-libdir && /Users/biocbuild/BBS/utils/build-universal.sh ScaledMatrix_1.16.0.tar.gz /Library/Frameworks/R.framework/Resources/bin/R ScaledMatrix.buildbin-libdir StartedAt: 2025-10-15 20:18:52 -0400 (Wed, 15 Oct 2025) EndedAt: 2025-10-15 20:19:15 -0400 (Wed, 15 Oct 2025) EllapsedTime: 23.5 seconds RetCode: 0 Status: OK PackageFile: ScaledMatrix_1.16.0.tgz PackageFileSize: 605.8 KiB