Package: Scale4C Version: 1.30.0 Command: /home/biocbuild/bbs-3.21-bioc/R/bin/R CMD INSTALL Scale4C StartedAt: 2025-10-15 15:17:36 -0400 (Wed, 15 Oct 2025) EndedAt: 2025-10-15 15:18:05 -0400 (Wed, 15 Oct 2025) EllapsedTime: 29.8 seconds RetCode: 0 Status: OK