Package: Scale4C Version: 1.30.0 Command: /home/biocbuild/R/R/bin/R CMD INSTALL Scale4C StartedAt: 2025-10-13 20:31:01 -0000 (Mon, 13 Oct 2025) EndedAt: 2025-10-13 20:31:43 -0000 (Mon, 13 Oct 2025) EllapsedTime: 42.2 seconds RetCode: 0 Status: OK