Package: Scale4C Version: 1.30.0 Command: /home/biocbuild/R/R/bin/R CMD build --keep-empty-dirs --no-resave-data Scale4C StartedAt: 2025-10-14 04:19:14 -0000 (Tue, 14 Oct 2025) EndedAt: 2025-10-14 04:21:20 -0000 (Tue, 14 Oct 2025) EllapsedTime: 126.1 seconds RetCode: 0 Status: OK PackageFile: Scale4C_1.30.0.tar.gz PackageFileSize: 4.896 MiB