Package: Scale4C Version: 1.30.0 Command: /Library/Frameworks/R.framework/Resources/bin/R CMD build --keep-empty-dirs --no-resave-data Scale4C StartedAt: 2025-10-14 08:26:34 -0400 (Tue, 14 Oct 2025) EndedAt: 2025-10-14 08:28:35 -0400 (Tue, 14 Oct 2025) EllapsedTime: 120.8 seconds RetCode: 0 Status: OK PackageFile: Scale4C_1.30.0.tar.gz PackageFileSize: 4.9 MiB