Package: Scale4C Version: 1.30.0 Command: rm -rf Scale4C.buildbin-libdir && mkdir Scale4C.buildbin-libdir && /Users/biocbuild/BBS/utils/build-universal.sh Scale4C_1.30.0.tar.gz /Library/Frameworks/R.framework/Resources/bin/R Scale4C.buildbin-libdir StartedAt: 2025-10-15 20:18:48 -0400 (Wed, 15 Oct 2025) EndedAt: 2025-10-15 20:19:28 -0400 (Wed, 15 Oct 2025) EllapsedTime: 39.5 seconds RetCode: 0 Status: OK PackageFile: Scale4C_1.30.0.tgz PackageFileSize: 2.174 MiB