Package: SamSPECTRAL Version: 1.62.0 Command: /home/biocbuild/R/R/bin/R CMD build --keep-empty-dirs --no-resave-data SamSPECTRAL StartedAt: 2025-10-14 04:17:17 -0000 (Tue, 14 Oct 2025) EndedAt: 2025-10-14 04:20:11 -0000 (Tue, 14 Oct 2025) EllapsedTime: 174.1 seconds RetCode: 0 Status: OK PackageFile: SamSPECTRAL_1.62.0.tar.gz PackageFileSize: 926 KiB