Package: SWATH2stats Version: 1.38.0 Command: /home/biocbuild/R/R/bin/R CMD build --keep-empty-dirs --no-resave-data SWATH2stats StartedAt: 2025-10-14 05:14:19 -0000 (Tue, 14 Oct 2025) EndedAt: 2025-10-14 05:15:21 -0000 (Tue, 14 Oct 2025) EllapsedTime: 62.0 seconds RetCode: 0 Status: OK PackageFile: SWATH2stats_1.38.0.tar.gz PackageFileSize: 3.017 MiB