Package: STdeconvolve Version: 1.12.0 Command: chmod a+r STdeconvolve -R && E:\biocbuild\bbs-3.21-bioc\R\bin\R.exe CMD build --keep-empty-dirs --no-resave-data STdeconvolve StartedAt: 2025-08-14 22:33:45 -0400 (Thu, 14 Aug 2025) EndedAt: 2025-08-14 22:33:49 -0400 (Thu, 14 Aug 2025) EllapsedTime: 4.0 seconds RetCode: 1 Status: ERROR PackageFile: None PackageFileSize: NA