Package: STdeconvolve Version: 1.12.0 Command: /home/biocbuild/bbs-3.21-bioc/R/bin/R CMD build --keep-empty-dirs --no-resave-data STdeconvolve StartedAt: 2025-10-15 20:10:44 -0400 (Wed, 15 Oct 2025) EndedAt: 2025-10-15 20:10:45 -0400 (Wed, 15 Oct 2025) EllapsedTime: 1.0 seconds RetCode: 1 Status: ERROR PackageFile: None PackageFileSize: NA