Package: STdeconvolve Version: 1.12.0 Command: /Library/Frameworks/R.framework/Resources/bin/R CMD INSTALL STdeconvolve StartedAt: 2025-10-13 16:58:00 -0400 (Mon, 13 Oct 2025) EndedAt: 2025-10-13 16:58:01 -0400 (Mon, 13 Oct 2025) EllapsedTime: 0.3 seconds RetCode: 1 Status: ERROR