Package: STdeconvolve Version: 1.12.0 Command: /Library/Frameworks/R.framework/Resources/bin/R CMD build --keep-empty-dirs --no-resave-data STdeconvolve StartedAt: 2025-10-13 23:03:41 -0400 (Mon, 13 Oct 2025) EndedAt: 2025-10-13 23:03:44 -0400 (Mon, 13 Oct 2025) EllapsedTime: 2.1 seconds RetCode: 1 Status: ERROR PackageFile: None PackageFileSize: NA