Package: STdeconvolve Version: 1.12.0 Command: /home/biocbuild/R/R/bin/R CMD INSTALL STdeconvolve StartedAt: 2025-10-13 21:28:50 -0000 (Mon, 13 Oct 2025) EndedAt: 2025-10-13 21:28:50 -0000 (Mon, 13 Oct 2025) EllapsedTime: 0.3 seconds RetCode: 1 Status: ERROR