Package: STdeconvolve Version: 1.12.0 Command: /Library/Frameworks/R.framework/Resources/bin/R CMD INSTALL STdeconvolve StartedAt: 2025-10-13 18:44:38 -0400 (Mon, 13 Oct 2025) EndedAt: 2025-10-13 18:44:38 -0400 (Mon, 13 Oct 2025) EllapsedTime: 0.4 seconds RetCode: 1 Status: ERROR