Package: STRINGdb Version: 2.20.0 Command: rm -rf STRINGdb.buildbin-libdir && mkdir STRINGdb.buildbin-libdir && /Users/biocbuild/BBS/utils/build-universal.sh STRINGdb_2.20.0.tar.gz /Library/Frameworks/R.framework/Resources/bin/R STRINGdb.buildbin-libdir StartedAt: 2025-10-15 20:44:23 -0400 (Wed, 15 Oct 2025) EndedAt: 2025-10-15 20:44:33 -0400 (Wed, 15 Oct 2025) EllapsedTime: 9.2 seconds RetCode: 0 Status: OK PackageFile: STRINGdb_2.20.0.tgz PackageFileSize: 10.13 MiB