Package: SRAdb Version: 1.70.0 Command: /Library/Frameworks/R.framework/Resources/bin/R CMD build --keep-empty-dirs --no-resave-data SRAdb StartedAt: 2025-04-21 17:47:27 -0400 (Mon, 21 Apr 2025) EndedAt: 2025-04-21 17:47:33 -0400 (Mon, 21 Apr 2025) EllapsedTime: 6.1 seconds RetCode: 0 Status: OK PackageFile: SRAdb_1.70.0.tar.gz PackageFileSize: 889.7 KiB