Package: SQLDataFrame Version: 1.22.0 Command: /home/biocbuild/bbs-3.21-bioc/R/bin/R CMD check --install=check:SQLDataFrame.install-out.txt --library=/home/biocbuild/bbs-3.21-bioc/R/site-library --timings SQLDataFrame_1.22.0.tar.gz StartedAt: 2025-10-16 04:03:43 -0400 (Thu, 16 Oct 2025) EndedAt: 2025-10-16 04:06:23 -0400 (Thu, 16 Oct 2025) EllapsedTime: 160.2 seconds RetCode: 1 Status: ERROR CheckDir: SQLDataFrame.Rcheck Warnings: NA