Package: SQLDataFrame Version: 1.22.0 Command: /home/biocbuild/bbs-3.21-bioc/R/bin/R CMD build --keep-empty-dirs --no-resave-data SQLDataFrame StartedAt: 2025-10-15 20:08:50 -0400 (Wed, 15 Oct 2025) EndedAt: 2025-10-15 20:09:17 -0400 (Wed, 15 Oct 2025) EllapsedTime: 27.1 seconds RetCode: 0 Status: OK PackageFile: SQLDataFrame_1.22.0.tar.gz PackageFileSize: 235 KiB