Package: SQLDataFrame Version: 1.22.0 Command: /home/biocbuild/R/R/bin/R CMD check --install=check:SQLDataFrame.install-out.txt --library=/home/biocbuild/R/R/site-library --no-vignettes --timings SQLDataFrame_1.22.0.tar.gz StartedAt: 2025-10-14 14:53:09 -0000 (Tue, 14 Oct 2025) EndedAt: 2025-10-14 14:57:23 -0000 (Tue, 14 Oct 2025) EllapsedTime: 254.3 seconds RetCode: 0 Status: WARNINGS CheckDir: SQLDataFrame.Rcheck Warnings: 2