Package: SQLDataFrame Version: 1.22.0 Command: /Library/Frameworks/R.framework/Resources/bin/R CMD check --install=check:SQLDataFrame.install-out.txt --library=/Library/Frameworks/R.framework/Resources/library --no-vignettes --timings SQLDataFrame_1.22.0.tar.gz StartedAt: 2025-10-15 14:16:05 -0400 (Wed, 15 Oct 2025) EndedAt: 2025-10-15 14:18:59 -0400 (Wed, 15 Oct 2025) EllapsedTime: 173.9 seconds RetCode: 1 Status: ERROR CheckDir: SQLDataFrame.Rcheck Warnings: NA