Package: SQLDataFrame Version: 1.22.0 Command: /Library/Frameworks/R.framework/Resources/bin/R CMD build --keep-empty-dirs --no-resave-data SQLDataFrame StartedAt: 2025-10-14 10:25:15 -0400 (Tue, 14 Oct 2025) EndedAt: 2025-10-14 10:25:51 -0400 (Tue, 14 Oct 2025) EllapsedTime: 35.8 seconds RetCode: 0 Status: OK PackageFile: SQLDataFrame_1.22.0.tar.gz PackageFileSize: 234.9 KiB